BEGIN:VCALENDAR
VERSION:2.0
PRODID:-//KNSK//Skak.gl Kalender//DA
CALSCALE:GREGORIAN
METHOD:PUBLISH
X-WR-CALNAME:KNSK Turneringer
X-WR-TIMEZONE:America/Nuuk
BEGIN:VTIMEZONE
TZID:America/Nuuk
BEGIN:STANDARD
DTSTART:19701025T020000
RRULE:FREQ=YEARLY;BYDAY=-1SU;BYMONTH=10
TZOFFSETFROM:-0200
TZOFFSETTO:-0300
TZNAME:WGT
END:STANDARD
BEGIN:DAYLIGHT
DTSTART:19700329T010000
RRULE:FREQ=YEARLY;BYDAY=-1SU;BYMONTH=3
TZOFFSETFROM:-0300
TZOFFSETTO:-0200
TZNAME:WGST
END:DAYLIGHT
END:VTIMEZONE
BEGIN:VEVENT
UID:turnering-1@skak.gl
DTSTAMP:20260202T101652Z
LAST-MODIFIED:20260401T051717Z
DTSTART;VALUE=DATE:20260424
DTEND;VALUE=DATE:20260427
SUMMARY:Grønlands Mesterskab 2026
LOCATION:Online
DESCRIPTION:For første gang kan vi nu afholde et rigtigt Grønlandsmesterskab i skak\, hvor ALLE fra Grønland har mulighed for at deltage.\nTurneringen vil blive afholdt her på skak.gl.\\n\\nFormat: Swiss\\nBetænkningstid: 30 min + 30 sek. pr. træk\\nRunder: 7\\nTilmeldte: 4\\nDommer: Robert Lagerman\\n\\nTilmeld: https://skak.gl/tilmeld-turnering.php?id=1\\nInfo: https://skak.gl/turnering.php?id=1
URL:https://skak.gl/turnering.php?id=1
CATEGORIES:Skak,Classical,FIDE
STATUS:CONFIRMED
ORGANIZER;CN=KNSK:MAILTO:info@skak.gl
BEGIN:VALARM
TRIGGER:-PT60M
ACTION:DISPLAY
DESCRIPTION:Påmindelse: Grønlands Mesterskab 2026 starter snart!
END:VALARM
BEGIN:VALARM
TRIGGER:-PT1440M
ACTION:DISPLAY
DESCRIPTION:Grønlands Mesterskab 2026 er i morgen!
END:VALARM
BEGIN:VALARM
TRIGGER:-PT206M
ACTION:DISPLAY
DESCRIPTION:Tilmeldingsfrist for Grønlands Mesterskab 2026 udløber snart!
END:VALARM
END:VEVENT
BEGIN:VEVENT
UID:tilmeldingsfrist-1@skak.gl
DTSTAMP:20260202T101652Z
DTSTART;TZID=America/Nuuk:20260423T203400
DTEND;TZID=America/Nuuk:20260423T210400
SUMMARY:⏰ Tilmeldingsfrist: Grønlands Mesterskab 2026
LOCATION:Online
DESCRIPTION:Tilmeldingsfrist for Grønlands Mesterskab 2026\nTilmeld her: https://skak.gl/tilmeld-turnering.php?id=1
URL:https://skak.gl/tilmeld-turnering.php?id=1
CATEGORIES:Skak,Tilmeldingsfrist
STATUS:CONFIRMED
BEGIN:VALARM
TRIGGER:-PT120M
ACTION:DISPLAY
DESCRIPTION:Tilmeldingsfrist for Grønlands Mesterskab 2026 om 2 timer!
END:VALARM
END:VEVENT
END:VCALENDAR
